BEGIN:VCALENDAR
VERSION:2.0
CALSCALE:GREGORIAN
METHOD:PUBLISH
X-WR-TIMEZONE:Australia/Sydney
BEGIN:VTIMEZONE
TZID:Australia/Sydney
BEGIN:STANDARD
TZNAME:AEST
END:STANDARD
END:VTIMEZONE
BEGIN:VEVENT
DTSTART;TZID=Australia/Sydney:20180216T090000
DTEND;TZID=Australia/Sydney:20180216T110000
DTSTAMP:20260425T014648
UID:826
SUMMARY:Summer Sports R2 
DESCRIPTION:&amp;nbsp;
MPW Gold v Ascot Vale West
&amp;nbsp;
NM White v MPW Blue

SEQUENCE:0
STATUS:CONFIRMED
TRANSP:OPAQUE
END:VEVENT
END:VCALENDAR